BEGIN:VCALENDAR
VERSION:2.0
PRODID:spatie/icalendar-generator
DESCRIPTION:Eventi da Ecomuseo del paesaggio lomellino
X-WR-CALDESC:Eventi da Ecomuseo del paesaggio lomellino
REFRESH-INTERVAL;VALUE=DURATION:PT1440M
X-PUBLISHED-TTL:PT1440M
BEGIN:VTIMEZONE
TZID:Etc/GMT-2
BEGIN:STANDARD
DTSTART:20181028T000000Z
TZOFFSETFROM:+0200
TZOFFSETTO:+0200
END:STANDARD
END:VTIMEZONE
BEGIN:VTIMEZONE
TZID:UTC
BEGIN:STANDARD
DTSTART:20250724T160417Z
TZOFFSETFROM:+0000
TZOFFSETTO:+0000
END:STANDARD
END:VTIMEZONE
BEGIN:VEVENT
UID:1231-294
DTSTAMP:20260420T160417Z
SUMMARY:Campionato mondiale di panissa
LOCATION:
ORGANIZER;CN=Umberto De Agostino:MAILTO:udeago@gmail.com
DTSTART;TZID=Etc/GMT-2:20190725T000000
DTEND;TZID=Etc/GMT-2:20190725T000000
X-ALT-DESC;FMTTYPE=TEXT/HTML:
CATEGORIES:Eventi nei Comuni
URL;VALUE=URI:https://www.ecomuseopaesaggiolomellino.it/mc-events/campionat
 o-mondiale-di-panissa/
METHOD:PUBLISH
END:VEVENT
END:VCALENDAR