BEGIN:VCALENDAR
VERSION:2.0
PRODID:spatie/icalendar-generator
DESCRIPTION:Eventi da Ecomuseo del paesaggio lomellino
X-WR-CALDESC:Eventi da Ecomuseo del paesaggio lomellino
REFRESH-INTERVAL;VALUE=DURATION:PT1440M
X-PUBLISHED-TTL:PT1440M
BEGIN:VTIMEZONE
TZID:Etc/GMT-2
BEGIN:STANDARD
DTSTART:20211214T163000Z
TZOFFSETFROM:+0200
TZOFFSETTO:+0200
END:STANDARD
END:VTIMEZONE
BEGIN:VTIMEZONE
TZID:UTC
BEGIN:STANDARD
DTSTART:20250723T220119Z
TZOFFSETFROM:+0000
TZOFFSETTO:+0000
END:STANDARD
END:VTIMEZONE
BEGIN:VEVENT
UID:1283-346
DTSTAMP:20260419T220119Z
SUMMARY:Incontro con l'autore
LOCATION:
ORGANIZER;CN=Umberto:MAILTO:direzione@ecomuseopaesaggiolomellino.it
DTSTART;TZID=Etc/GMT-2:20220910T163000
DTEND;TZID=Etc/GMT-2:20220910T173000
X-ALT-DESC;FMTTYPE=TEXT/HTML:
CATEGORIES:Eventi nei Comuni
URL;VALUE=URI:https://www.ecomuseopaesaggiolomellino.it/mc-events/incontro-
 con-lautore/
METHOD:PUBLISH
END:VEVENT
END:VCALENDAR