BEGIN:VCALENDAR
VERSION:2.0
PRODID:spatie/icalendar-generator
DESCRIPTION:Eventi da Ecomuseo del paesaggio lomellino
X-WR-CALDESC:Eventi da Ecomuseo del paesaggio lomellino
REFRESH-INTERVAL;VALUE=DURATION:PT1440M
X-PUBLISHED-TTL:PT1440M
BEGIN:VTIMEZONE
TZID:Etc/GMT-2
BEGIN:STANDARD
DTSTART:20180321T000000Z
TZOFFSETFROM:+0200
TZOFFSETTO:+0200
END:STANDARD
END:VTIMEZONE
BEGIN:VTIMEZONE
TZID:UTC
BEGIN:STANDARD
DTSTART:20250724T114532Z
TZOFFSETFROM:+0000
TZOFFSETTO:+0000
END:STANDARD
END:VTIMEZONE
BEGIN:VEVENT
UID:698-266
DTSTAMP:20260420T114532Z
SUMMARY:Mercatino di Natale a Gravellona Lomellina - Domenica 16 dicembre 2
 018
LOCATION:
ORGANIZER;CN=Berzero:MAILTO:sindaco@comunebreme.it
DTSTART;TZID=Etc/GMT-2;VALUE=DATE:20181216
DTEND;TZID=Etc/GMT-2;VALUE=DATE:20181217
X-ALT-DESC;FMTTYPE=TEXT/HTML:
CATEGORIES:Eventi nei Comuni
URL;VALUE=URI:https://www.ecomuseopaesaggiolomellino.it/mc-events/mercatino
 -di-natale-a-gravellona-lomellina-domenica-16-dicembre-2018/
METHOD:PUBLISH
END:VEVENT
END:VCALENDAR