BEGIN:VCALENDAR
VERSION:2.0
PRODID:spatie/icalendar-generator
DESCRIPTION:Eventi da Ecomuseo del paesaggio lomellino
X-WR-CALDESC:Eventi da Ecomuseo del paesaggio lomellino
REFRESH-INTERVAL;VALUE=DURATION:PT1440M
X-PUBLISHED-TTL:PT1440M
BEGIN:VTIMEZONE
TZID:Etc/GMT-2
BEGIN:STANDARD
DTSTART:20180829T000000Z
TZOFFSETFROM:+0200
TZOFFSETTO:+0200
END:STANDARD
END:VTIMEZONE
BEGIN:VTIMEZONE
TZID:UTC
BEGIN:STANDARD
DTSTART:20250726T172619Z
TZOFFSETFROM:+0000
TZOFFSETTO:+0000
END:STANDARD
END:VTIMEZONE
BEGIN:VEVENT
UID:1207-272
DTSTAMP:20260422T172619Z
SUMMARY:Romanico in Lomellina
LOCATION:
ORGANIZER;CN=Umberto De Agostino:MAILTO:udeago@gmail.com
DTSTART;TZID=Etc/GMT-2;VALUE=DATE:20190526
DTEND;TZID=Etc/GMT-2;VALUE=DATE:20190527
X-ALT-DESC;FMTTYPE=TEXT/HTML:<p>Visite a Lomello\, Velezzo\, Breme e Robbio
 </p>\n
CATEGORIES:Eventi nei Comuni
URL;VALUE=URI:https://www.ecomuseopaesaggiolomellino.it/mc-events/romanico-
 in-lomellina-4/
METHOD:PUBLISH
END:VEVENT
END:VCALENDAR