BEGIN:VCALENDAR
VERSION:2.0
PRODID:spatie/icalendar-generator
DESCRIPTION:Eventi da Ecomuseo del paesaggio lomellino
X-WR-CALDESC:Eventi da Ecomuseo del paesaggio lomellino
REFRESH-INTERVAL;VALUE=DURATION:PT1440M
X-PUBLISHED-TTL:PT1440M
BEGIN:VTIMEZONE
TZID:Etc/GMT-2
BEGIN:STANDARD
DTSTART:20221206T000000Z
TZOFFSETFROM:+0200
TZOFFSETTO:+0200
END:STANDARD
END:VTIMEZONE
BEGIN:VTIMEZONE
TZID:UTC
BEGIN:STANDARD
DTSTART:20250723T123349Z
TZOFFSETFROM:+0000
TZOFFSETTO:+0000
END:STANDARD
END:VTIMEZONE
BEGIN:VEVENT
UID:1317-380
DTSTAMP:20260419T123349Z
SUMMARY:Settembre pievese
LOCATION:Pieve del Cairo   Pieve del Cairo PV
ORGANIZER;CN=Umberto:MAILTO:direzione@ecomuseopaesaggiolomellino.it
DTSTART;TZID=Etc/GMT-2;VALUE=DATE:20230902
DTEND;TZID=Etc/GMT-2;VALUE=DATE:20231008
X-ALT-DESC;FMTTYPE=TEXT/HTML:
CATEGORIES:Eventi nei Comuni
URL;VALUE=URI:https://www.ecomuseopaesaggiolomellino.it/mc-events/settembre
 -pievese-2/
METHOD:PUBLISH
END:VEVENT
END:VCALENDAR